BEGIN:VCALENDAR
PRODID:Nexudus
VERSION:2.0
BEGIN:VTIMEZONE
TZID:America/Los_Angeles
X-LIC-LOCATION:America/Los_Angeles
BEGIN:STANDARD
DTSTART:20241103T020000
RRULE:FREQ=YEARLY;BYDAY=1SU;BYMONTH=11
TZNAME:PST
TZOFFSETFROM:-0700
TZOFFSETTO:-0800
END:STANDARD
BEGIN:DAYLIGHT
DTSTART:20250309T020000
RRULE:FREQ=YEARLY;BYDAY=2SU;BYMONTH=3
TZNAME:PDT
TZOFFSETFROM:-0800
TZOFFSETTO:-0700
END:DAYLIGHT
END:VTIMEZONE
BEGIN:VEVENT
DESCRIPTION:\nEvent link: https://thehivery.spaces.nexudus.com/en/events/vi
 ew/532684198/member-spotlight--public-relations--101-with-monica-miller\n
DTEND;TZID=America/Los_Angeles:20180202T134500
DTSTAMP:20260423T020236Z
DTSTART;TZID=America/Los_Angeles:20180202T123000
LOCATION:The Hivery
SEQUENCE:0
SUMMARY:Member Spotlight: Public Relations: 101 with Monica Miller 
UID:ea51693c-6d29-4f4b-92e2-c8fdc4f1ac03
END:VEVENT
END:VCALENDAR
