BEGIN:VCALENDAR
PRODID:Nexudus
VERSION:2.0
BEGIN:VTIMEZONE
TZID:America/Los_Angeles
X-LIC-LOCATION:America/Los_Angeles
BEGIN:STANDARD
DTSTART:20241103T020000
RRULE:FREQ=YEARLY;BYDAY=1SU;BYMONTH=11
TZNAME:PST
TZOFFSETFROM:-0700
TZOFFSETTO:-0800
END:STANDARD
BEGIN:DAYLIGHT
DTSTART:20250309T020000
RRULE:FREQ=YEARLY;BYDAY=2SU;BYMONTH=3
TZNAME:PDT
TZOFFSETFROM:-0800
TZOFFSETTO:-0700
END:DAYLIGHT
END:VTIMEZONE
BEGIN:VEVENT
DESCRIPTION:\nEvent link: https://thehivery.spaces.nexudus.com/en/events/vi
 ew/530100709/women-s-march-poster-making-party\n
DTEND;TZID=America/Los_Angeles:20180119T170000
DTSTAMP:20260423T033050Z
DTSTART;TZID=America/Los_Angeles:20180119T143000
LOCATION:The Hivery
SEQUENCE:0
SUMMARY:Women’s March Poster Making Party
UID:0a07b86f-8b93-4abb-9b07-a6f911091033
END:VEVENT
END:VCALENDAR
