BEGIN:VCALENDAR
PRODID:Nexudus
VERSION:2.0
BEGIN:VTIMEZONE
TZID:America/Los_Angeles
X-LIC-LOCATION:America/Los_Angeles
BEGIN:STANDARD
DTSTART:20241103T020000
RRULE:FREQ=YEARLY;BYDAY=1SU;BYMONTH=11
TZNAME:PST
TZOFFSETFROM:-0700
TZOFFSETTO:-0800
END:STANDARD
BEGIN:DAYLIGHT
DTSTART:20250309T020000
RRULE:FREQ=YEARLY;BYDAY=2SU;BYMONTH=3
TZNAME:PDT
TZOFFSETFROM:-0800
TZOFFSETTO:-0700
END:DAYLIGHT
END:VTIMEZONE
BEGIN:VEVENT
DESCRIPTION:\nEvent link: https://thehivery.spaces.nexudus.com/en/events/vi
 ew/499598169/first-tuesday-artwalk---water-and-light--photography-by-rache
 l-wynne\n
DTEND;TZID=America/Los_Angeles:20171205T193000
DTSTAMP:20260423T061947Z
DTSTART;TZID=America/Los_Angeles:20171205T173000
LOCATION:The Hivery
SEQUENCE:0
SUMMARY:First Tuesday ArtWalk: “Water and Light” Photography by Rachel 
 Wynne
UID:a5be56d9-0526-4a9d-915d-431c2a442bb2
END:VEVENT
END:VCALENDAR
