BEGIN:VCALENDAR
PRODID:Nexudus
VERSION:2.0
BEGIN:VTIMEZONE
TZID:America/Los_Angeles
X-LIC-LOCATION:America/Los_Angeles
BEGIN:STANDARD
DTSTART:20241103T020000
RRULE:FREQ=YEARLY;BYDAY=1SU;BYMONTH=11
TZNAME:PST
TZOFFSETFROM:-0700
TZOFFSETTO:-0800
END:STANDARD
BEGIN:DAYLIGHT
DTSTART:20250309T020000
RRULE:FREQ=YEARLY;BYDAY=2SU;BYMONTH=3
TZNAME:PDT
TZOFFSETFROM:-0800
TZOFFSETTO:-0700
END:DAYLIGHT
END:VTIMEZONE
BEGIN:VEVENT
DESCRIPTION:\nEvent link: https://thehivery.spaces.nexudus.com/en/events/vi
 ew/480578103/writer-s-circle-featuring-thais-derich\n
DTEND;TZID=America/Los_Angeles:20171109T134500
DTSTAMP:20260423T072133Z
DTSTART;TZID=America/Los_Angeles:20171109T123000
LOCATION:The Hivery
SEQUENCE:0
SUMMARY:Writer's Circle Featuring Thais Derich 
UID:eaa0c281-63d1-4aec-982e-57f001d43e0a
END:VEVENT
END:VCALENDAR
