BEGIN:VCALENDAR
PRODID:Nexudus
VERSION:2.0
BEGIN:VTIMEZONE
TZID:America/Los_Angeles
X-LIC-LOCATION:America/Los_Angeles
BEGIN:STANDARD
DTSTART:20241103T020000
RRULE:FREQ=YEARLY;BYDAY=1SU;BYMONTH=11
TZNAME:PST
TZOFFSETFROM:-0700
TZOFFSETTO:-0800
END:STANDARD
BEGIN:DAYLIGHT
DTSTART:20250309T020000
RRULE:FREQ=YEARLY;BYDAY=2SU;BYMONTH=3
TZNAME:PDT
TZOFFSETFROM:-0800
TZOFFSETTO:-0700
END:DAYLIGHT
END:VTIMEZONE
BEGIN:VEVENT
DESCRIPTION:\nEvent link: https://thehivery.spaces.nexudus.com/en/events/vi
 ew/442161733/entrepreneur-s-circle--two-surefire-ways-to-increase-profitab
 ility-and-raise-capital-featuring-lili-balfour\n
DTEND;TZID=America/Los_Angeles:20170921T134500
DTSTAMP:20260423T112909Z
DTSTART;TZID=America/Los_Angeles:20170921T123000
LOCATION:The Hivery
SEQUENCE:0
SUMMARY: Entrepreneur's Circle: Two Surefire Ways to Increase Profitability
  and Raise Capital Featuring Lili Balfour
UID:5025774b-b352-4c1d-aa4a-5dba2608f1fc
END:VEVENT
END:VCALENDAR
