BEGIN:VCALENDAR
PRODID:Nexudus
VERSION:2.0
BEGIN:VTIMEZONE
TZID:America/Los_Angeles
X-LIC-LOCATION:America/Los_Angeles
BEGIN:STANDARD
DTSTART:20241103T020000
RRULE:FREQ=YEARLY;BYDAY=1SU;BYMONTH=11
TZNAME:PST
TZOFFSETFROM:-0700
TZOFFSETTO:-0800
END:STANDARD
BEGIN:DAYLIGHT
DTSTART:20250309T020000
RRULE:FREQ=YEARLY;BYDAY=2SU;BYMONTH=3
TZNAME:PDT
TZOFFSETFROM:-0800
TZOFFSETTO:-0700
END:DAYLIGHT
END:VTIMEZONE
BEGIN:VEVENT
DESCRIPTION:\nEvent link: https://thehivery.spaces.nexudus.com/en/events/vi
 ew/412713360/2nd-annual-entrepreneur-lab--an-all-day-retreat\n
DTEND;TZID=America/Los_Angeles:20171015T173000
DTSTAMP:20260423T095917Z
DTSTART;TZID=America/Los_Angeles:20171015T100000
LOCATION:The Hivery
SEQUENCE:0
SUMMARY:2nd Annual Entrepreneur Lab: An All-Day Retreat
UID:c97a63e8-a3f7-4ae0-8107-94b66a4460b7
END:VEVENT
END:VCALENDAR
