BEGIN:VCALENDAR
PRODID:Nexudus
VERSION:2.0
BEGIN:VTIMEZONE
TZID:America/Los_Angeles
X-LIC-LOCATION:America/Los_Angeles
BEGIN:STANDARD
DTSTART:20241103T020000
RRULE:FREQ=YEARLY;BYDAY=1SU;BYMONTH=11
TZNAME:PST
TZOFFSETFROM:-0700
TZOFFSETTO:-0800
END:STANDARD
BEGIN:DAYLIGHT
DTSTART:20250309T020000
RRULE:FREQ=YEARLY;BYDAY=2SU;BYMONTH=3
TZNAME:PDT
TZOFFSETFROM:-0800
TZOFFSETTO:-0700
END:DAYLIGHT
END:VTIMEZONE
BEGIN:VEVENT
DESCRIPTION:\nEvent link: https://thehivery.spaces.nexudus.com/en/events/vi
 ew/412713356/what-s-next--5-week-workshop-series\n
DTEND;TZID=America/Los_Angeles:20170928T120000
DTSTAMP:20260423T111949Z
DTSTART;TZID=America/Los_Angeles:20170928T093000
LOCATION:The Hivery
SEQUENCE:0
SUMMARY:What's Next: 5-Week Workshop Series
UID:304d88bd-6458-42eb-9918-5a8f66c563a4
END:VEVENT
END:VCALENDAR
