BEGIN:VCALENDAR
PRODID:Nexudus
VERSION:2.0
BEGIN:VTIMEZONE
TZID:America/Los_Angeles
X-LIC-LOCATION:America/Los_Angeles
BEGIN:STANDARD
DTSTART:20241103T020000
RRULE:FREQ=YEARLY;BYDAY=1SU;BYMONTH=11
TZNAME:PST
TZOFFSETFROM:-0700
TZOFFSETTO:-0800
END:STANDARD
BEGIN:DAYLIGHT
DTSTART:20250309T020000
RRULE:FREQ=YEARLY;BYDAY=2SU;BYMONTH=3
TZNAME:PDT
TZOFFSETFROM:-0800
TZOFFSETTO:-0700
END:DAYLIGHT
END:VTIMEZONE
BEGIN:VEVENT
DESCRIPTION:Held in the Creative Studio\nEvent link: https://thehivery.spac
 es.nexudus.com/en/events/view/369944575/discovery-circle\n
DTEND;TZID=America/Los_Angeles:20170526T103000
DTSTAMP:20260423T122828Z
DTSTART;TZID=America/Los_Angeles:20170526T093000
LOCATION:The Hivery
SEQUENCE:0
SUMMARY:Discovery Circle
UID:f0badc65-ba01-4373-8104-7a672c12d483
END:VEVENT
END:VCALENDAR
