BEGIN:VCALENDAR
PRODID:Nexudus
VERSION:2.0
BEGIN:VTIMEZONE
TZID:America/Los_Angeles
X-LIC-LOCATION:America/Los_Angeles
BEGIN:STANDARD
DTSTART:20241103T020000
RRULE:FREQ=YEARLY;BYDAY=1SU;BYMONTH=11
TZNAME:PST
TZOFFSETFROM:-0700
TZOFFSETTO:-0800
END:STANDARD
BEGIN:DAYLIGHT
DTSTART:20250309T020000
RRULE:FREQ=YEARLY;BYDAY=2SU;BYMONTH=3
TZNAME:PDT
TZOFFSETFROM:-0800
TZOFFSETTO:-0700
END:DAYLIGHT
END:VTIMEZONE
BEGIN:VEVENT
DESCRIPTION:\nEvent link: https://thehivery.spaces.nexudus.com/en/events/vi
 ew/1259857610/hivery-circle--international-women-s-day-2020-open-mic\n
DTEND;TZID=America/Los_Angeles:20200310T210000
DTSTAMP:20260421T152359Z
DTSTART;TZID=America/Los_Angeles:20200310T190000
LOCATION:The Hivery
SEQUENCE:0
SUMMARY:Hivery Circle: International Women's Day 2020 Open Mic 
UID:16100500-2837-49e7-852b-8c59e6146647
END:VEVENT
END:VCALENDAR
