BEGIN:VCALENDAR
PRODID:Nexudus
VERSION:2.0
BEGIN:VTIMEZONE
TZID:America/Los_Angeles
X-LIC-LOCATION:America/Los_Angeles
BEGIN:STANDARD
DTSTART:20241103T020000
RRULE:FREQ=YEARLY;BYDAY=1SU;BYMONTH=11
TZNAME:PST
TZOFFSETFROM:-0700
TZOFFSETTO:-0800
END:STANDARD
BEGIN:DAYLIGHT
DTSTART:20250309T020000
RRULE:FREQ=YEARLY;BYDAY=2SU;BYMONTH=3
TZNAME:PDT
TZOFFSETFROM:-0800
TZOFFSETTO:-0700
END:DAYLIGHT
END:VTIMEZONE
BEGIN:VEVENT
DESCRIPTION:\nEvent link: https://thehivery.spaces.nexudus.com/en/events/vi
 ew/1111380274/the-enneagram-experience-with-johanna-beyer-and-kim-morrow\n
DTEND;TZID=America/Los_Angeles:20190925T120000
DTSTAMP:20260422T005137Z
DTSTART;TZID=America/Los_Angeles:20190925T090000
LOCATION:The Hivery
SEQUENCE:0
SUMMARY:The Enneagram Experience with Johanna Beyer and Kim Morrow
UID:5031540f-2aed-4ad4-beb7-1156f1bade98
END:VEVENT
END:VCALENDAR
