BEGIN:VCALENDAR
PRODID:Nexudus
VERSION:2.0
BEGIN:VTIMEZONE
TZID:America/Los_Angeles
X-LIC-LOCATION:America/Los_Angeles
BEGIN:STANDARD
DTSTART:20241103T020000
RRULE:FREQ=YEARLY;BYDAY=1SU;BYMONTH=11
TZNAME:PST
TZOFFSETFROM:-0700
TZOFFSETTO:-0800
END:STANDARD
BEGIN:DAYLIGHT
DTSTART:20250309T020000
RRULE:FREQ=YEARLY;BYDAY=2SU;BYMONTH=3
TZNAME:PDT
TZOFFSETFROM:-0800
TZOFFSETTO:-0700
END:DAYLIGHT
END:VTIMEZONE
BEGIN:VEVENT
DESCRIPTION:\nEvent link: https://thehivery.spaces.nexudus.com/en/events/vi
 ew/1081415474/your-personal-style-as-self-care-with-michelle-moquin\n
DTEND;TZID=America/Los_Angeles:20190725T134500
DTSTAMP:20260422T005224Z
DTSTART;TZID=America/Los_Angeles:20190725T123000
LOCATION:The Hivery
SEQUENCE:0
SUMMARY:Your Personal Style as Self Care with Michelle Moquin
UID:f1b09d3d-25f4-431a-90ff-0c47dc288649
END:VEVENT
END:VCALENDAR
