BEGIN:VCALENDAR
PRODID:Nexudus
VERSION:2.0
BEGIN:VTIMEZONE
TZID:America/Los_Angeles
X-LIC-LOCATION:America/Los_Angeles
BEGIN:STANDARD
DTSTART:20241103T020000
RRULE:FREQ=YEARLY;BYDAY=1SU;BYMONTH=11
TZNAME:PST
TZOFFSETFROM:-0700
TZOFFSETTO:-0800
END:STANDARD
BEGIN:DAYLIGHT
DTSTART:20250309T020000
RRULE:FREQ=YEARLY;BYDAY=2SU;BYMONTH=3
TZNAME:PDT
TZOFFSETFROM:-0800
TZOFFSETTO:-0700
END:DAYLIGHT
END:VTIMEZONE
BEGIN:VEVENT
DESCRIPTION:\nEvent link: https://thehivery.spaces.nexudus.com/en/events/vi
 ew/984543580/monthly-member-coffee\n
DTEND;TZID=America/Los_Angeles:20190503T100000
DTSTAMP:20260422T024427Z
DTSTART;TZID=America/Los_Angeles:20190503T090000
LOCATION:The Hivery
SEQUENCE:0
SUMMARY:Monthly Member Coffee
UID:f1a37352-5c56-41f9-ab1f-7a07b846cb9b
END:VEVENT
END:VCALENDAR
