BEGIN:VCALENDAR
PRODID:Nexudus
VERSION:2.0
BEGIN:VTIMEZONE
TZID:America/Los_Angeles
X-LIC-LOCATION:America/Los_Angeles
BEGIN:STANDARD
DTSTART:20241103T020000
RRULE:FREQ=YEARLY;BYDAY=1SU;BYMONTH=11
TZNAME:PST
TZOFFSETFROM:-0700
TZOFFSETTO:-0800
END:STANDARD
BEGIN:DAYLIGHT
DTSTART:20250309T020000
RRULE:FREQ=YEARLY;BYDAY=2SU;BYMONTH=3
TZNAME:PDT
TZOFFSETFROM:-0800
TZOFFSETTO:-0700
END:DAYLIGHT
END:VTIMEZONE
BEGIN:VEVENT
DESCRIPTION:\nEvent link: https://thehivery.spaces.nexudus.com/en/events/vi
 ew/818734050/the-hivery-circle--how-introverts-and-extroverts-can-flourish
 -at-work-and-business-with-liz-fosslien\n
DTEND;TZID=America/Los_Angeles:20190212T210000
DTSTAMP:20260422T053628Z
DTSTART;TZID=America/Los_Angeles:20190212T190000
LOCATION:The Hivery
SEQUENCE:0
SUMMARY:The Hivery Circle: How introverts and Extroverts Can Flourish At Wo
 rk and Business with Liz Fosslien
UID:4f358f88-49cf-4b7a-aa1d-80367ecca0b8
END:VEVENT
END:VCALENDAR
