BEGIN:VCALENDAR
PRODID:Nexudus
VERSION:2.0
BEGIN:VTIMEZONE
TZID:America/Los_Angeles
X-LIC-LOCATION:America/Los_Angeles
BEGIN:STANDARD
DTSTART:20241103T020000
RRULE:FREQ=YEARLY;BYDAY=1SU;BYMONTH=11
TZNAME:PST
TZOFFSETFROM:-0700
TZOFFSETTO:-0800
END:STANDARD
BEGIN:DAYLIGHT
DTSTART:20250309T020000
RRULE:FREQ=YEARLY;BYDAY=2SU;BYMONTH=3
TZNAME:PDT
TZOFFSETFROM:-0800
TZOFFSETTO:-0700
END:DAYLIGHT
END:VTIMEZONE
BEGIN:VEVENT
DESCRIPTION:\nEvent link: https://thehivery.spaces.nexudus.com/en/events/vi
 ew/708895216/wellness-wednesday--a-guided-visual-meditation-with-cacao\n
DTEND;TZID=America/Los_Angeles:20181024T130000
DTSTAMP:20260422T110524Z
DTSTART;TZID=America/Los_Angeles:20181024T123000
LOCATION:The Hivery
SEQUENCE:0
SUMMARY:Wellness Wednesday: A Guided Visual Meditation With Cacao
UID:3d49318e-8d4e-47a7-82e1-2819ad0b2187
END:VEVENT
END:VCALENDAR
