BEGIN:VCALENDAR
PRODID:Nexudus
VERSION:2.0
BEGIN:VTIMEZONE
TZID:America/Los_Angeles
X-LIC-LOCATION:America/Los_Angeles
BEGIN:STANDARD
DTSTART:20241103T020000
RRULE:FREQ=YEARLY;BYDAY=1SU;BYMONTH=11
TZNAME:PST
TZOFFSETFROM:-0700
TZOFFSETTO:-0800
END:STANDARD
BEGIN:DAYLIGHT
DTSTART:20250309T020000
RRULE:FREQ=YEARLY;BYDAY=2SU;BYMONTH=3
TZNAME:PDT
TZOFFSETFROM:-0800
TZOFFSETTO:-0700
END:DAYLIGHT
END:VTIMEZONE
BEGIN:VEVENT
DESCRIPTION:\nEvent link: https://thehivery.spaces.nexudus.com/en/events/vi
 ew/572800229/wellness-wednesday--breathe--move--ground\n
DTEND;TZID=America/Los_Angeles:20180328T130000
DTSTAMP:20260422T224915Z
DTSTART;TZID=America/Los_Angeles:20180328T123000
LOCATION:The Hivery
SEQUENCE:0
SUMMARY:Wellness Wednesday: Breathe\, Move\, Ground
UID:b4565f9b-2d8a-4c9c-be92-2f8edd871c0d
END:VEVENT
END:VCALENDAR
