BEGIN:VCALENDAR
PRODID:Nexudus
VERSION:2.0
BEGIN:VTIMEZONE
TZID:America/Los_Angeles
X-LIC-LOCATION:America/Los_Angeles
BEGIN:STANDARD
DTSTART:20241103T020000
RRULE:FREQ=YEARLY;BYDAY=1SU;BYMONTH=11
TZNAME:PST
TZOFFSETFROM:-0700
TZOFFSETTO:-0800
END:STANDARD
BEGIN:DAYLIGHT
DTSTART:20250309T020000
RRULE:FREQ=YEARLY;BYDAY=2SU;BYMONTH=3
TZNAME:PDT
TZOFFSETFROM:-0800
TZOFFSETTO:-0700
END:DAYLIGHT
END:VTIMEZONE
BEGIN:VEVENT
DESCRIPTION:\nEvent link: https://thehivery.spaces.nexudus.com/en/events/vi
 ew/550540116/member-spotlight--building-a-resume-for-hire-with-ann-cookson
 \n
DTEND;TZID=America/Los_Angeles:20180316T134500
DTSTAMP:20260422T224746Z
DTSTART;TZID=America/Los_Angeles:20180316T123000
LOCATION:The Hivery
SEQUENCE:0
SUMMARY:Member Spotlight: Building a Resume for Hire with Ann Cookson
UID:d91983c4-bb1d-44b6-a7f9-01d9d67dc967
END:VEVENT
END:VCALENDAR
