BEGIN:VCALENDAR
PRODID:Nexudus
VERSION:2.0
BEGIN:VTIMEZONE
TZID:America/Los_Angeles
X-LIC-LOCATION:America/Los_Angeles
BEGIN:STANDARD
DTSTART:20241103T020000
RRULE:FREQ=YEARLY;BYDAY=1SU;BYMONTH=11
TZNAME:PST
TZOFFSETFROM:-0700
TZOFFSETTO:-0800
END:STANDARD
BEGIN:DAYLIGHT
DTSTART:20250309T020000
RRULE:FREQ=YEARLY;BYDAY=2SU;BYMONTH=3
TZNAME:PDT
TZOFFSETFROM:-0800
TZOFFSETTO:-0700
END:DAYLIGHT
END:VTIMEZONE
BEGIN:VEVENT
DESCRIPTION:\nEvent link: https://thehivery.spaces.nexudus.com/en/events/vi
 ew/550316117/international-women-s-day--what-it-means-to-be-a-courageous-w
 oman\n
DTEND;TZID=America/Los_Angeles:20180308T210000
DTSTAMP:20260422T225151Z
DTSTART;TZID=America/Los_Angeles:20180308T190000
LOCATION:The Hivery
SEQUENCE:0
SUMMARY: International Women’s Day: What it Means to Be a Courageous Woma
 n 
UID:232425ef-70e4-4135-8364-5a97251ad3d1
END:VEVENT
END:VCALENDAR
