BEGIN:VCALENDAR
PRODID:Nexudus
VERSION:2.0
BEGIN:VTIMEZONE
TZID:America/Los_Angeles
X-LIC-LOCATION:America/Los_Angeles
BEGIN:STANDARD
DTSTART:20241103T020000
RRULE:FREQ=YEARLY;BYDAY=1SU;BYMONTH=11
TZNAME:PST
TZOFFSETFROM:-0700
TZOFFSETTO:-0800
END:STANDARD
BEGIN:DAYLIGHT
DTSTART:20250309T020000
RRULE:FREQ=YEARLY;BYDAY=2SU;BYMONTH=3
TZNAME:PDT
TZOFFSETFROM:-0800
TZOFFSETTO:-0700
END:DAYLIGHT
END:VTIMEZONE
BEGIN:VEVENT
DESCRIPTION:\nEvent link: https://thehivery.spaces.nexudus.com/en/events/vi
 ew/493080593/bring-a-friend-friday\n
DTEND;TZID=America/Los_Angeles:20171117T180000
DTSTAMP:20260423T072829Z
DTSTART;TZID=America/Los_Angeles:20171117T083000
LOCATION:The Hivery
SEQUENCE:0
SUMMARY:Bring-A-Friend-Friday
UID:4b5011a1-1137-4fd0-ba8a-484962601b1b
END:VEVENT
END:VCALENDAR
