BEGIN:VCALENDAR
PRODID:Nexudus
VERSION:2.0
BEGIN:VTIMEZONE
TZID:America/Los_Angeles
X-LIC-LOCATION:America/Los_Angeles
BEGIN:STANDARD
DTSTART:20241103T020000
RRULE:FREQ=YEARLY;BYDAY=1SU;BYMONTH=11
TZNAME:PST
TZOFFSETFROM:-0700
TZOFFSETTO:-0800
END:STANDARD
BEGIN:DAYLIGHT
DTSTART:20250309T020000
RRULE:FREQ=YEARLY;BYDAY=2SU;BYMONTH=3
TZNAME:PDT
TZOFFSETFROM:-0800
TZOFFSETTO:-0700
END:DAYLIGHT
END:VTIMEZONE
BEGIN:VEVENT
DESCRIPTION:\nEvent link: https://thehivery.spaces.nexudus.com/en/events/vi
 ew/412651457/member-spotlight--jen-baxter--mobile-photography-fundamentals
 -of-taking-great-pictures-with-your-phone\n
DTEND;TZID=America/Los_Angeles:20170818T134500
DTSTAMP:20260423T112811Z
DTSTART;TZID=America/Los_Angeles:20170818T123000
LOCATION:The Hivery
SEQUENCE:0
SUMMARY:Member Spotlight: Jen Baxter\, Mobile Photography—Fundamentals of
  Taking Great Pictures With Your Phone
UID:da43b91f-3a36-4d8c-920e-9f8cec4b972d
END:VEVENT
END:VCALENDAR
