BEGIN:VCALENDAR
PRODID:Nexudus
VERSION:2.0
BEGIN:VTIMEZONE
TZID:America/Los_Angeles
X-LIC-LOCATION:America/Los_Angeles
BEGIN:STANDARD
DTSTART:20241103T020000
RRULE:FREQ=YEARLY;BYDAY=1SU;BYMONTH=11
TZNAME:PST
TZOFFSETFROM:-0700
TZOFFSETTO:-0800
END:STANDARD
BEGIN:DAYLIGHT
DTSTART:20250309T020000
RRULE:FREQ=YEARLY;BYDAY=2SU;BYMONTH=3
TZNAME:PDT
TZOFFSETFROM:-0800
TZOFFSETTO:-0700
END:DAYLIGHT
END:VTIMEZONE
BEGIN:VEVENT
DESCRIPTION:\nEvent link: https://thehivery.spaces.nexudus.com/en/events/vi
 ew/412181770/hivery-circle-with-watermark\n
DTEND;TZID=America/Los_Angeles:20170711T200000
DTSTAMP:20260423T124822Z
DTSTART;TZID=America/Los_Angeles:20170711T180000
LOCATION:The Hivery
SEQUENCE:0
SUMMARY:Hivery Circle with Watermark
UID:e8611213-59d3-40b2-b696-6eb3fd668f63
END:VEVENT
END:VCALENDAR
