BEGIN:VCALENDAR
PRODID:Nexudus
VERSION:2.0
BEGIN:VTIMEZONE
TZID:America/Los_Angeles
X-LIC-LOCATION:America/Los_Angeles
BEGIN:STANDARD
DTSTART:20241103T020000
RRULE:FREQ=YEARLY;BYDAY=1SU;BYMONTH=11
TZNAME:PST
TZOFFSETFROM:-0700
TZOFFSETTO:-0800
END:STANDARD
BEGIN:DAYLIGHT
DTSTART:20250309T020000
RRULE:FREQ=YEARLY;BYDAY=2SU;BYMONTH=3
TZNAME:PDT
TZOFFSETFROM:-0800
TZOFFSETTO:-0700
END:DAYLIGHT
END:VTIMEZONE
BEGIN:VEVENT
DESCRIPTION:\nEvent link: https://thehivery.spaces.nexudus.com/en/events/vi
 ew/369944577/brown-bag-lunch---50-50-screening\n
DTEND;TZID=America/Los_Angeles:20170510T133000
DTSTAMP:20260423T142321Z
DTSTART;TZID=America/Los_Angeles:20170510T123000
LOCATION:The Hivery
SEQUENCE:0
SUMMARY:Brown Bag Lunch & 50/50 Screening
UID:b9443064-1d3b-4eb0-bb41-7f5bd5dacff9
END:VEVENT
END:VCALENDAR
