BEGIN:VCALENDAR
PRODID:Nexudus
VERSION:2.0
BEGIN:VTIMEZONE
TZID:America/Los_Angeles
X-LIC-LOCATION:America/Los_Angeles
BEGIN:STANDARD
DTSTART:20241103T020000
RRULE:FREQ=YEARLY;BYDAY=1SU;BYMONTH=11
TZNAME:PST
TZOFFSETFROM:-0700
TZOFFSETTO:-0800
END:STANDARD
BEGIN:DAYLIGHT
DTSTART:20250309T020000
RRULE:FREQ=YEARLY;BYDAY=2SU;BYMONTH=3
TZNAME:PDT
TZOFFSETFROM:-0800
TZOFFSETTO:-0700
END:DAYLIGHT
END:VTIMEZONE
BEGIN:VEVENT
DESCRIPTION:\nEvent link: https://thehivery.spaces.nexudus.com/en/events/vi
 ew/1286835551/writer-s-circle--a-time-to-write--virtually--with-thais-deri
 ch\n
DTEND;TZID=America/Los_Angeles:20200402T103000
DTSTAMP:20260421T150520Z
DTSTART;TZID=America/Los_Angeles:20200402T093000
LOCATION:The Hivery Virtual
SEQUENCE:0
SUMMARY:Writer's Circle: A Time to Write (Virtually) with Thais Derich
UID:7632c5b6-3832-4f33-9552-c516bf26ff26
END:VEVENT
END:VCALENDAR
