BEGIN:VCALENDAR
PRODID:Nexudus
VERSION:2.0
BEGIN:VTIMEZONE
TZID:America/Los_Angeles
X-LIC-LOCATION:America/Los_Angeles
BEGIN:STANDARD
DTSTART:20241103T020000
RRULE:FREQ=YEARLY;BYDAY=1SU;BYMONTH=11
TZNAME:PST
TZOFFSETFROM:-0700
TZOFFSETTO:-0800
END:STANDARD
BEGIN:DAYLIGHT
DTSTART:20250309T020000
RRULE:FREQ=YEARLY;BYDAY=2SU;BYMONTH=3
TZNAME:PDT
TZOFFSETFROM:-0800
TZOFFSETTO:-0700
END:DAYLIGHT
END:VTIMEZONE
BEGIN:VEVENT
DESCRIPTION:\nEvent link: https://thehivery.spaces.nexudus.com/en/events/vi
 ew/1269880168/the-mechanics-of-manifestation--a-higher-knowledge-and-art-e
 xperience-with-kristen-vandivier-and-carrie-leeb\n
DTEND;TZID=America/Los_Angeles:20200507T134500
DTSTAMP:20260421T165413Z
DTSTART;TZID=America/Los_Angeles:20200507T123000
LOCATION:The Hivery Mill Valley
SEQUENCE:0
SUMMARY:The Mechanics of Manifestation: A higher knowledge and art experien
 ce with Kristen Vandivier and Carrie Leeb
UID:c2adf449-383e-4af7-bfc2-85171eb619c0
END:VEVENT
END:VCALENDAR
