BEGIN:VCALENDAR
PRODID:Nexudus
VERSION:2.0
BEGIN:VTIMEZONE
TZID:America/Los_Angeles
X-LIC-LOCATION:America/Los_Angeles
BEGIN:STANDARD
DTSTART:20241103T020000
RRULE:FREQ=YEARLY;BYDAY=1SU;BYMONTH=11
TZNAME:PST
TZOFFSETFROM:-0700
TZOFFSETTO:-0800
END:STANDARD
BEGIN:DAYLIGHT
DTSTART:20250309T020000
RRULE:FREQ=YEARLY;BYDAY=2SU;BYMONTH=3
TZNAME:PDT
TZOFFSETFROM:-0800
TZOFFSETTO:-0700
END:DAYLIGHT
END:VTIMEZONE
BEGIN:VEVENT
DESCRIPTION:\nEvent link: https://thehivery.spaces.nexudus.com/en/events/vi
 ew/1245837656/hivery-circle--celebrate-galentine-s-day-with-us-\n
DTEND;TZID=America/Los_Angeles:20200211T210000
DTSTAMP:20260421T163628Z
DTSTART;TZID=America/Los_Angeles:20200211T190000
LOCATION:The Hivery Mill Valley
SEQUENCE:0
SUMMARY:Hivery Circle: Celebrate Galentine's Day with us!
UID:d4975e03-e352-4791-8b0d-75f036d740cb
END:VEVENT
END:VCALENDAR
