BEGIN:VCALENDAR
PRODID:Nexudus
VERSION:2.0
BEGIN:VTIMEZONE
TZID:America/Los_Angeles
X-LIC-LOCATION:America/Los_Angeles
BEGIN:STANDARD
DTSTART:20241103T020000
RRULE:FREQ=YEARLY;BYDAY=1SU;BYMONTH=11
TZNAME:PST
TZOFFSETFROM:-0700
TZOFFSETTO:-0800
END:STANDARD
BEGIN:DAYLIGHT
DTSTART:20250309T020000
RRULE:FREQ=YEARLY;BYDAY=2SU;BYMONTH=3
TZNAME:PDT
TZOFFSETFROM:-0800
TZOFFSETTO:-0700
END:DAYLIGHT
END:VTIMEZONE
BEGIN:VEVENT
DESCRIPTION:\nEvent link: https://thehivery.spaces.nexudus.com/en/events/vi
 ew/1151143011/focus-group-with-the-marin-economic-forum\n
DTEND;TZID=America/Los_Angeles:20190912T103000
DTSTAMP:20260421T212851Z
DTSTART;TZID=America/Los_Angeles:20190912T090000
LOCATION:The Hivery
SEQUENCE:0
SUMMARY:Focus Group with The Marin Economic Forum
UID:18a2ab14-a07d-422e-9008-1499ac718bf9
END:VEVENT
END:VCALENDAR
