BEGIN:VCALENDAR
PRODID:Nexudus
VERSION:2.0
BEGIN:VTIMEZONE
TZID:America/Los_Angeles
X-LIC-LOCATION:America/Los_Angeles
BEGIN:STANDARD
DTSTART:20241103T020000
RRULE:FREQ=YEARLY;BYDAY=1SU;BYMONTH=11
TZNAME:PST
TZOFFSETFROM:-0700
TZOFFSETTO:-0800
END:STANDARD
BEGIN:DAYLIGHT
DTSTART:20250309T020000
RRULE:FREQ=YEARLY;BYDAY=2SU;BYMONTH=3
TZNAME:PDT
TZOFFSETFROM:-0800
TZOFFSETTO:-0700
END:DAYLIGHT
END:VTIMEZONE
BEGIN:VEVENT
DESCRIPTION:\nEvent link: https://thehivery.spaces.nexudus.com/en/events/vi
 ew/741475737/the-importance-of-resilience---overcoming-fear-with-roz-savag
 e\n
DTEND;TZID=America/Los_Angeles:20181030T164500
DTSTAMP:20260422T112524Z
DTSTART;TZID=America/Los_Angeles:20181030T123000
LOCATION:The Hivery
SEQUENCE:0
SUMMARY:The Importance Of Resilience + Overcoming Fear With Roz Savage  
UID:bd624b2d-338f-49c0-9390-c0a9aa9ad900
END:VEVENT
END:VCALENDAR
