BEGIN:VCALENDAR
PRODID:Nexudus
VERSION:2.0
BEGIN:VTIMEZONE
TZID:America/Los_Angeles
X-LIC-LOCATION:America/Los_Angeles
BEGIN:STANDARD
DTSTART:20241103T020000
RRULE:FREQ=YEARLY;BYDAY=1SU;BYMONTH=11
TZNAME:PST
TZOFFSETFROM:-0700
TZOFFSETTO:-0800
END:STANDARD
BEGIN:DAYLIGHT
DTSTART:20250309T020000
RRULE:FREQ=YEARLY;BYDAY=2SU;BYMONTH=3
TZNAME:PDT
TZOFFSETFROM:-0800
TZOFFSETTO:-0700
END:DAYLIGHT
END:VTIMEZONE
BEGIN:VEVENT
DESCRIPTION:\nEvent link: https://thehivery.spaces.nexudus.com/en/events/vi
 ew/729776050/idea-to-action-workshop-with-megan-flatt\n
DTEND;TZID=America/Los_Angeles:20181107T160000
DTSTAMP:20260422T094300Z
DTSTART;TZID=America/Los_Angeles:20181107T120000
LOCATION:The Hivery
SEQUENCE:0
SUMMARY:Idea To Action Workshop with Megan Flatt 
UID:3d11293f-5d9a-4ddd-bb12-cfe3a28514b5
END:VEVENT
END:VCALENDAR
