BEGIN:VCALENDAR
PRODID:Nexudus
VERSION:2.0
BEGIN:VTIMEZONE
TZID:America/Los_Angeles
X-LIC-LOCATION:America/Los_Angeles
BEGIN:STANDARD
DTSTART:20241103T020000
RRULE:FREQ=YEARLY;BYDAY=1SU;BYMONTH=11
TZNAME:PST
TZOFFSETFROM:-0700
TZOFFSETTO:-0800
END:STANDARD
BEGIN:DAYLIGHT
DTSTART:20250309T020000
RRULE:FREQ=YEARLY;BYDAY=2SU;BYMONTH=3
TZNAME:PDT
TZOFFSETFROM:-0800
TZOFFSETTO:-0700
END:DAYLIGHT
END:VTIMEZONE
BEGIN:VEVENT
DESCRIPTION:Join The Hivery's Idea To Action course leader and business str
 ategist Megan Flatt for a free information session to learn more about the
  upcoming fall 2018 two-part workshop. Not only will you get to learn more
 \, get all of your questions answered BUT you will also get to do a hands-
 on Post-it planning session in this jam-packed lunch-time hour! \nEvent li
 nk: https://thehivery.spaces.nexudus.com/en/events/view/727662985/the-hive
 ry-s-idea-to-action-info-session---post-it-planning-party-with-megan-flatt
 \n
DTEND;TZID=America/Los_Angeles:20181024T130000
DTSTAMP:20260422T112337Z
DTSTART;TZID=America/Los_Angeles:20181024T120000
LOCATION:The Hivery
SEQUENCE:0
SUMMARY:The Hivery's Idea To Action Info Session + Post-it Planning Party w
 ith Megan Flatt
UID:86090a5d-fe4a-4fbd-9f8c-914392b4f5c2
END:VEVENT
END:VCALENDAR
