BEGIN:VCALENDAR
PRODID:Nexudus
VERSION:2.0
BEGIN:VTIMEZONE
TZID:America/Los_Angeles
X-LIC-LOCATION:America/Los_Angeles
BEGIN:STANDARD
DTSTART:20241103T020000
RRULE:FREQ=YEARLY;BYDAY=1SU;BYMONTH=11
TZNAME:PST
TZOFFSETFROM:-0700
TZOFFSETTO:-0800
END:STANDARD
BEGIN:DAYLIGHT
DTSTART:20250309T020000
RRULE:FREQ=YEARLY;BYDAY=2SU;BYMONTH=3
TZNAME:PDT
TZOFFSETFROM:-0800
TZOFFSETTO:-0700
END:DAYLIGHT
END:VTIMEZONE
BEGIN:VEVENT
DESCRIPTION:\nEvent link: https://thehivery.spaces.nexudus.com/en/events/vi
 ew/703655150/wellness-wednesday--project-you-be-well-with-neely-mack\n
DTEND;TZID=America/Los_Angeles:20181017T134500
DTSTAMP:20260422T110614Z
DTSTART;TZID=America/Los_Angeles:20181017T123000
LOCATION:The Hivery
SEQUENCE:0
SUMMARY:Wellness Wednesday: Project You Be Well with Neely Mack 
UID:752e91db-13f1-420e-8e5a-28d90389d393
END:VEVENT
END:VCALENDAR
