BEGIN:VCALENDAR
PRODID:Nexudus
VERSION:2.0
BEGIN:VTIMEZONE
TZID:America/Los_Angeles
X-LIC-LOCATION:America/Los_Angeles
BEGIN:STANDARD
DTSTART:20241103T020000
RRULE:FREQ=YEARLY;BYDAY=1SU;BYMONTH=11
TZNAME:PST
TZOFFSETFROM:-0700
TZOFFSETTO:-0800
END:STANDARD
BEGIN:DAYLIGHT
DTSTART:20250309T020000
RRULE:FREQ=YEARLY;BYDAY=2SU;BYMONTH=3
TZNAME:PDT
TZOFFSETFROM:-0800
TZOFFSETTO:-0700
END:DAYLIGHT
END:VTIMEZONE
BEGIN:VEVENT
DESCRIPTION:\nEvent link: https://thehivery.spaces.nexudus.com/en/events/vi
 ew/641422870/wellness-wednesday--gentle-yoga\n
DTEND;TZID=America/Los_Angeles:20180815T130000
DTSTAMP:20260422T153931Z
DTSTART;TZID=America/Los_Angeles:20180815T123000
LOCATION:The Hivery
SEQUENCE:0
SUMMARY:Wellness Wednesday: Gentle Yoga 
UID:b10306cb-7d6f-4e27-9190-cb6793bf4fa1
END:VEVENT
END:VCALENDAR
