BEGIN:VCALENDAR
PRODID:Nexudus
VERSION:2.0
BEGIN:VTIMEZONE
TZID:America/Los_Angeles
X-LIC-LOCATION:America/Los_Angeles
BEGIN:STANDARD
DTSTART:20241103T020000
RRULE:FREQ=YEARLY;BYDAY=1SU;BYMONTH=11
TZNAME:PST
TZOFFSETFROM:-0700
TZOFFSETTO:-0800
END:STANDARD
BEGIN:DAYLIGHT
DTSTART:20250309T020000
RRULE:FREQ=YEARLY;BYDAY=2SU;BYMONTH=3
TZNAME:PDT
TZOFFSETFROM:-0800
TZOFFSETTO:-0700
END:DAYLIGHT
END:VTIMEZONE
BEGIN:VEVENT
DESCRIPTION:\nEvent link: https://thehivery.spaces.nexudus.com/en/events/vi
 ew/627636267/entrepreneur-s-circle--how-to-build-your-tribe-with-love-with
 -jadah-sellner\n
DTEND;TZID=America/Los_Angeles:20180719T134500
DTSTAMP:20260422T153931Z
DTSTART;TZID=America/Los_Angeles:20180719T123000
LOCATION:The Hivery
SEQUENCE:0
SUMMARY:Entrepreneur's Circle: How to Build your Tribe with Love with Jadah
  Sellner
UID:3bdcfddc-b1f4-47e0-aa99-2700d1d3a837
END:VEVENT
END:VCALENDAR
