BEGIN:VCALENDAR
PRODID:Nexudus
VERSION:2.0
BEGIN:VTIMEZONE
TZID:America/Los_Angeles
X-LIC-LOCATION:America/Los_Angeles
BEGIN:STANDARD
DTSTART:20241103T020000
RRULE:FREQ=YEARLY;BYDAY=1SU;BYMONTH=11
TZNAME:PST
TZOFFSETFROM:-0700
TZOFFSETTO:-0800
END:STANDARD
BEGIN:DAYLIGHT
DTSTART:20250309T020000
RRULE:FREQ=YEARLY;BYDAY=2SU;BYMONTH=3
TZNAME:PDT
TZOFFSETFROM:-0800
TZOFFSETTO:-0700
END:DAYLIGHT
END:VTIMEZONE
BEGIN:VEVENT
DESCRIPTION:\nEvent link: https://thehivery.spaces.nexudus.com/en/events/vi
 ew/605498756/orchard-mile-s-boardroom-not-so-basics-pop-up\n
DTEND;TZID=America/Los_Angeles:20180517T180000
DTSTAMP:20260422T182540Z
DTSTART;TZID=America/Los_Angeles:20180517T140000
LOCATION:The Hivery
SEQUENCE:0
SUMMARY:Orchard Mile's Boardroom Not So Basics Pop-Up
UID:c74bd054-1149-4a9d-a666-ad4e20f2d897
END:VEVENT
END:VCALENDAR
