BEGIN:VCALENDAR
PRODID:Nexudus
VERSION:2.0
BEGIN:VTIMEZONE
TZID:America/Los_Angeles
X-LIC-LOCATION:America/Los_Angeles
BEGIN:STANDARD
DTSTART:20241103T020000
RRULE:FREQ=YEARLY;BYDAY=1SU;BYMONTH=11
TZNAME:PST
TZOFFSETFROM:-0700
TZOFFSETTO:-0800
END:STANDARD
BEGIN:DAYLIGHT
DTSTART:20250309T020000
RRULE:FREQ=YEARLY;BYDAY=2SU;BYMONTH=3
TZNAME:PDT
TZOFFSETFROM:-0800
TZOFFSETTO:-0700
END:DAYLIGHT
END:VTIMEZONE
BEGIN:VEVENT
DESCRIPTION:\nEvent link: https://thehivery.spaces.nexudus.com/en/events/vi
 ew/590630395/writer-s-circle-with-lone-mørch\n
DTEND;TZID=America/Los_Angeles:20180510T134500
DTSTAMP:20260422T194615Z
DTSTART;TZID=America/Los_Angeles:20180510T123000
LOCATION:The Hivery
SEQUENCE:0
SUMMARY:Writer's Circle with Lone Mørch
UID:1d94cad1-9daf-48c0-8f36-5dfbe27ba963
END:VEVENT
END:VCALENDAR
