BEGIN:VCALENDAR
PRODID:Nexudus
VERSION:2.0
BEGIN:VTIMEZONE
TZID:America/Los_Angeles
X-LIC-LOCATION:America/Los_Angeles
BEGIN:STANDARD
DTSTART:20241103T020000
RRULE:FREQ=YEARLY;BYDAY=1SU;BYMONTH=11
TZNAME:PST
TZOFFSETFROM:-0700
TZOFFSETTO:-0800
END:STANDARD
BEGIN:DAYLIGHT
DTSTART:20250309T020000
RRULE:FREQ=YEARLY;BYDAY=2SU;BYMONTH=3
TZNAME:PDT
TZOFFSETFROM:-0800
TZOFFSETTO:-0700
END:DAYLIGHT
END:VTIMEZONE
BEGIN:VEVENT
DESCRIPTION:\nEvent link: https://thehivery.spaces.nexudus.com/en/events/vi
 ew/550540124/entrepreneur-s-circle-with-amanda-burke-livingston\n
DTEND;TZID=America/Los_Angeles:20180315T134500
DTSTAMP:20260422T225036Z
DTSTART;TZID=America/Los_Angeles:20180315T123000
LOCATION:The Hivery
SEQUENCE:0
SUMMARY:Entrepreneur's Circle with Amanda Burke Livingston
UID:6c246aa0-d1a9-4f77-b9e0-734705659961
END:VEVENT
END:VCALENDAR
