BEGIN:VCALENDAR
PRODID:Nexudus
VERSION:2.0
BEGIN:VTIMEZONE
TZID:America/Los_Angeles
X-LIC-LOCATION:America/Los_Angeles
BEGIN:STANDARD
DTSTART:20241103T020000
RRULE:FREQ=YEARLY;BYDAY=1SU;BYMONTH=11
TZNAME:PST
TZOFFSETFROM:-0700
TZOFFSETTO:-0800
END:STANDARD
BEGIN:DAYLIGHT
DTSTART:20250309T020000
RRULE:FREQ=YEARLY;BYDAY=2SU;BYMONTH=3
TZNAME:PDT
TZOFFSETFROM:-0800
TZOFFSETTO:-0700
END:DAYLIGHT
END:VTIMEZONE
BEGIN:VEVENT
DESCRIPTION:\nEvent link: https://thehivery.spaces.nexudus.com/en/events/vi
 ew/550540123/writer-s-circle-with-thais-derich\n
DTEND;TZID=America/Los_Angeles:20180308T134500
DTSTAMP:20260423T002324Z
DTSTART;TZID=America/Los_Angeles:20180308T123000
LOCATION:The Hivery
SEQUENCE:0
SUMMARY:Writer's Circle with Thais Derich 
UID:d6da2b1c-75b9-4826-b197-6e3d1ab7452f
END:VEVENT
END:VCALENDAR
