BEGIN:VCALENDAR
PRODID:Nexudus
VERSION:2.0
BEGIN:VTIMEZONE
TZID:America/Los_Angeles
X-LIC-LOCATION:America/Los_Angeles
BEGIN:STANDARD
DTSTART:20241103T020000
RRULE:FREQ=YEARLY;BYDAY=1SU;BYMONTH=11
TZNAME:PST
TZOFFSETFROM:-0700
TZOFFSETTO:-0800
END:STANDARD
BEGIN:DAYLIGHT
DTSTART:20250309T020000
RRULE:FREQ=YEARLY;BYDAY=2SU;BYMONTH=3
TZNAME:PDT
TZOFFSETFROM:-0800
TZOFFSETTO:-0700
END:DAYLIGHT
END:VTIMEZONE
BEGIN:VEVENT
DESCRIPTION:\nEvent link: https://thehivery.spaces.nexudus.com/en/events/vi
 ew/550316116/hivery-circle--your-story-is-your-power-with-elle-luna-and-su
 sie-herrick\n
DTEND;TZID=America/Los_Angeles:20180313T210000
DTSTAMP:20260422T225242Z
DTSTART;TZID=America/Los_Angeles:20180313T190000
LOCATION:The Hivery
SEQUENCE:0
SUMMARY:Hivery Circle: Your Story is Your Power with Elle Luna and Susie He
 rrick 
UID:9f5a11ae-6a01-41ae-8972-d6dbc1618661
END:VEVENT
END:VCALENDAR
