BEGIN:VCALENDAR
PRODID:Nexudus
VERSION:2.0
BEGIN:VTIMEZONE
TZID:America/Los_Angeles
X-LIC-LOCATION:America/Los_Angeles
BEGIN:STANDARD
DTSTART:20241103T020000
RRULE:FREQ=YEARLY;BYDAY=1SU;BYMONTH=11
TZNAME:PST
TZOFFSETFROM:-0700
TZOFFSETTO:-0800
END:STANDARD
BEGIN:DAYLIGHT
DTSTART:20250309T020000
RRULE:FREQ=YEARLY;BYDAY=2SU;BYMONTH=3
TZNAME:PDT
TZOFFSETFROM:-0800
TZOFFSETTO:-0700
END:DAYLIGHT
END:VTIMEZONE
BEGIN:VEVENT
DESCRIPTION:\nEvent link: https://thehivery.spaces.nexudus.com/en/events/vi
 ew/529984458/spread-more-love-at-the-sf-women-s-march\n
DTEND;TZID=America/Los_Angeles:20180120T140000
DTSTAMP:20260423T043627Z
DTSTART;TZID=America/Los_Angeles:20180120T120000
LOCATION:San Francisco Civic Center
SEQUENCE:0
SUMMARY:Spread More Love at The SF Women’s March
UID:14adf40f-9458-4ae7-881e-dcc637b6dbd7
END:VEVENT
END:VCALENDAR
