BEGIN:VCALENDAR
PRODID:Nexudus
VERSION:2.0
BEGIN:VTIMEZONE
TZID:America/Los_Angeles
X-LIC-LOCATION:America/Los_Angeles
BEGIN:STANDARD
DTSTART:20241103T020000
RRULE:FREQ=YEARLY;BYDAY=1SU;BYMONTH=11
TZNAME:PST
TZOFFSETFROM:-0700
TZOFFSETTO:-0800
END:STANDARD
BEGIN:DAYLIGHT
DTSTART:20250309T020000
RRULE:FREQ=YEARLY;BYDAY=2SU;BYMONTH=3
TZNAME:PDT
TZOFFSETFROM:-0800
TZOFFSETTO:-0700
END:DAYLIGHT
END:VTIMEZONE
BEGIN:VEVENT
DESCRIPTION:\nEvent link: https://thehivery.spaces.nexudus.com/en/events/vi
 ew/521122770/writer-s-circle-featuring-jill-dodd\n
DTEND;TZID=America/Los_Angeles:20180201T134500
DTSTAMP:20260423T015345Z
DTSTART;TZID=America/Los_Angeles:20180201T123000
LOCATION:The Hivery
SEQUENCE:0
SUMMARY:Writer's Circle Featuring Jill Dodd
UID:4aedc54b-98a9-46fa-aebd-6ba800ad79f7
END:VEVENT
END:VCALENDAR
