BEGIN:VCALENDAR
PRODID:Nexudus
VERSION:2.0
BEGIN:VTIMEZONE
TZID:America/Los_Angeles
X-LIC-LOCATION:America/Los_Angeles
BEGIN:STANDARD
DTSTART:20241103T020000
RRULE:FREQ=YEARLY;BYDAY=1SU;BYMONTH=11
TZNAME:PST
TZOFFSETFROM:-0700
TZOFFSETTO:-0800
END:STANDARD
BEGIN:DAYLIGHT
DTSTART:20250309T020000
RRULE:FREQ=YEARLY;BYDAY=2SU;BYMONTH=3
TZNAME:PDT
TZOFFSETFROM:-0800
TZOFFSETTO:-0700
END:DAYLIGHT
END:VTIMEZONE
BEGIN:VEVENT
DESCRIPTION:\nEvent link: https://thehivery.spaces.nexudus.com/en/events/vi
 ew/513428929/member-spotlight--deepening-connections-and-gratitude-through
 -writing-with-melanie-vetter\n
DTEND;TZID=America/Los_Angeles:20180119T134500
DTSTAMP:20260423T033336Z
DTSTART;TZID=America/Los_Angeles:20180119T123000
LOCATION:The Hivery
SEQUENCE:0
SUMMARY:Member Spotlight: Deepening Connections and Gratitude through Writi
 ng with Melanie Vetter
UID:9b931145-7944-46da-8857-0e297ee9bf43
END:VEVENT
END:VCALENDAR
