BEGIN:VCALENDAR
PRODID:Nexudus
VERSION:2.0
BEGIN:VTIMEZONE
TZID:America/Los_Angeles
X-LIC-LOCATION:America/Los_Angeles
BEGIN:STANDARD
DTSTART:20241103T020000
RRULE:FREQ=YEARLY;BYDAY=1SU;BYMONTH=11
TZNAME:PST
TZOFFSETFROM:-0700
TZOFFSETTO:-0800
END:STANDARD
BEGIN:DAYLIGHT
DTSTART:20250309T020000
RRULE:FREQ=YEARLY;BYDAY=2SU;BYMONTH=3
TZNAME:PDT
TZOFFSETFROM:-0800
TZOFFSETTO:-0700
END:DAYLIGHT
END:VTIMEZONE
BEGIN:VEVENT
DESCRIPTION:\nEvent link: https://thehivery.spaces.nexudus.com/en/events/vi
 ew/480578123/new-member-coffee-talk-with-lisa-joss\n
DTEND;TZID=America/Los_Angeles:20171201T090000
DTSTAMP:20260423T062212Z
DTSTART;TZID=America/Los_Angeles:20171201T083000
LOCATION:The Hivery
SEQUENCE:0
SUMMARY:New Member Coffee Talk with Lisa Joss
UID:d0f0ce84-5ab0-492a-8141-357c13afe5d6
END:VEVENT
END:VCALENDAR
