BEGIN:VCALENDAR
PRODID:Nexudus
VERSION:2.0
BEGIN:VTIMEZONE
TZID:America/Los_Angeles
X-LIC-LOCATION:America/Los_Angeles
BEGIN:STANDARD
DTSTART:20241103T020000
RRULE:FREQ=YEARLY;BYDAY=1SU;BYMONTH=11
TZNAME:PST
TZOFFSETFROM:-0700
TZOFFSETTO:-0800
END:STANDARD
BEGIN:DAYLIGHT
DTSTART:20250309T020000
RRULE:FREQ=YEARLY;BYDAY=2SU;BYMONTH=3
TZNAME:PDT
TZOFFSETFROM:-0800
TZOFFSETTO:-0700
END:DAYLIGHT
END:VTIMEZONE
BEGIN:VEVENT
DESCRIPTION:\nEvent link: https://thehivery.spaces.nexudus.com/en/events/vi
 ew/480578101/realign---reconnect--a-30-minute-sacred-pause\n
DTEND;TZID=America/Los_Angeles:20171120T130000
DTSTAMP:20260423T073032Z
DTSTART;TZID=America/Los_Angeles:20171120T123000
LOCATION:The Hivery
SEQUENCE:0
SUMMARY:Realign & Reconnect: A 30-Minute Sacred Pause
UID:634cd730-74bb-45d8-a7e3-f5e55f9e8234
END:VEVENT
END:VCALENDAR
