BEGIN:VCALENDAR
PRODID:Nexudus
VERSION:2.0
BEGIN:VTIMEZONE
TZID:America/Los_Angeles
X-LIC-LOCATION:America/Los_Angeles
BEGIN:STANDARD
DTSTART:20241103T020000
RRULE:FREQ=YEARLY;BYDAY=1SU;BYMONTH=11
TZNAME:PST
TZOFFSETFROM:-0700
TZOFFSETTO:-0800
END:STANDARD
BEGIN:DAYLIGHT
DTSTART:20250309T020000
RRULE:FREQ=YEARLY;BYDAY=2SU;BYMONTH=3
TZNAME:PDT
TZOFFSETFROM:-0800
TZOFFSETTO:-0700
END:DAYLIGHT
END:VTIMEZONE
BEGIN:VEVENT
DESCRIPTION:\nEvent link: https://thehivery.spaces.nexudus.com/en/events/vi
 ew/457391068/entrepreneur-s-circle--collaboration-with-grace-kraaijvanger\
 n
DTEND;TZID=America/Los_Angeles:20171019T134500
DTSTAMP:20260423T084327Z
DTSTART;TZID=America/Los_Angeles:20171019T123000
LOCATION:The Hivery
SEQUENCE:0
SUMMARY:Entrepreneur's Circle: Collaboration with Grace Kraaijvanger
UID:091b55d4-c0a3-4e37-9d0d-d6c826904d0c
END:VEVENT
END:VCALENDAR
