BEGIN:VCALENDAR
PRODID:Nexudus
VERSION:2.0
BEGIN:VTIMEZONE
TZID:America/Los_Angeles
X-LIC-LOCATION:America/Los_Angeles
BEGIN:STANDARD
DTSTART:20241103T020000
RRULE:FREQ=YEARLY;BYDAY=1SU;BYMONTH=11
TZNAME:PST
TZOFFSETFROM:-0700
TZOFFSETTO:-0800
END:STANDARD
BEGIN:DAYLIGHT
DTSTART:20250309T020000
RRULE:FREQ=YEARLY;BYDAY=2SU;BYMONTH=3
TZNAME:PDT
TZOFFSETFROM:-0800
TZOFFSETTO:-0700
END:DAYLIGHT
END:VTIMEZONE
BEGIN:VEVENT
DESCRIPTION:\nEvent link: https://thehivery.spaces.nexudus.com/en/events/vi
 ew/452353908/hivery-teen-event--finding-balance---navigating-stress\n
DTEND;TZID=America/Los_Angeles:20171001T153000
DTSTAMP:20260423T100112Z
DTSTART;TZID=America/Los_Angeles:20171001T110000
LOCATION:The Hivery 
SEQUENCE:0
SUMMARY:Hivery Teen Event: Finding Balance & Navigating Stress
UID:7ff83c30-f0ce-4380-b873-63b0b7bad227
END:VEVENT
END:VCALENDAR
