BEGIN:VCALENDAR
PRODID:Nexudus
VERSION:2.0
BEGIN:VTIMEZONE
TZID:America/Los_Angeles
X-LIC-LOCATION:America/Los_Angeles
BEGIN:STANDARD
DTSTART:20241103T020000
RRULE:FREQ=YEARLY;BYDAY=1SU;BYMONTH=11
TZNAME:PST
TZOFFSETFROM:-0700
TZOFFSETTO:-0800
END:STANDARD
BEGIN:DAYLIGHT
DTSTART:20250309T020000
RRULE:FREQ=YEARLY;BYDAY=2SU;BYMONTH=3
TZNAME:PDT
TZOFFSETFROM:-0800
TZOFFSETTO:-0700
END:DAYLIGHT
END:VTIMEZONE
BEGIN:VEVENT
DESCRIPTION:\nEvent link: https://thehivery.spaces.nexudus.com/en/events/vi
 ew/428317950/discovery-circle-with-featured-guest-becca-piastrelli\n
DTEND;TZID=America/Los_Angeles:20170728T103000
DTSTAMP:20260423T124518Z
DTSTART;TZID=America/Los_Angeles:20170728T093000
LOCATION:The Hivery
SEQUENCE:0
SUMMARY:Discovery Circle with Featured Guest Becca Piastrelli
UID:972b3ea8-020e-4da5-bfcd-b7e3059fd3bd
END:VEVENT
END:VCALENDAR
