BEGIN:VCALENDAR
PRODID:Nexudus
VERSION:2.0
BEGIN:VTIMEZONE
TZID:America/Los_Angeles
X-LIC-LOCATION:America/Los_Angeles
BEGIN:STANDARD
DTSTART:20241103T020000
RRULE:FREQ=YEARLY;BYDAY=1SU;BYMONTH=11
TZNAME:PST
TZOFFSETFROM:-0700
TZOFFSETTO:-0800
END:STANDARD
BEGIN:DAYLIGHT
DTSTART:20250309T020000
RRULE:FREQ=YEARLY;BYDAY=2SU;BYMONTH=3
TZNAME:PDT
TZOFFSETFROM:-0800
TZOFFSETTO:-0700
END:DAYLIGHT
END:VTIMEZONE
BEGIN:VEVENT
DESCRIPTION:\nEvent link: https://thehivery.spaces.nexudus.com/en/events/vi
 ew/1180596516/wellness-wednesday--thrive-past-midlife-and-beyond-in-modern
 -times-with-suzanne-roth-paul\n
DTEND;TZID=America/Los_Angeles:20191106T134500
DTSTAMP:20260421T182110Z
DTSTART;TZID=America/Los_Angeles:20191106T123000
LOCATION:The Hivery Mill Valley
SEQUENCE:0
SUMMARY:Wellness Wednesday: Thrive Past Midlife and Beyond In Modern Times 
 with Suzanne Roth-Paul
UID:3fc429fb-24a9-45f2-857b-fc55e34a6b9c
END:VEVENT
END:VCALENDAR
