BEGIN:VCALENDAR
PRODID:Nexudus
VERSION:2.0
BEGIN:VTIMEZONE
TZID:America/Los_Angeles
X-LIC-LOCATION:America/Los_Angeles
BEGIN:STANDARD
DTSTART:20241103T020000
RRULE:FREQ=YEARLY;BYDAY=1SU;BYMONTH=11
TZNAME:PST
TZOFFSETFROM:-0700
TZOFFSETTO:-0800
END:STANDARD
BEGIN:DAYLIGHT
DTSTART:20250309T020000
RRULE:FREQ=YEARLY;BYDAY=2SU;BYMONTH=3
TZNAME:PDT
TZOFFSETFROM:-0800
TZOFFSETTO:-0700
END:DAYLIGHT
END:VTIMEZONE
BEGIN:VEVENT
DESCRIPTION:\nEvent link: https://thehivery.spaces.nexudus.com/en/events/vi
 ew/1173950828/the-art-of-the-memoir-with-adrienne-brodeur\n
DTEND;TZID=America/Los_Angeles:20191105T203000
DTSTAMP:20260421T212927Z
DTSTART;TZID=America/Los_Angeles:20191105T183000
LOCATION:The Hivery Mill Valley
SEQUENCE:0
SUMMARY:The Art of the Memoir with Adrienne Brodeur
UID:4ebd2d23-2190-4ba3-9b05-d8d7f19e0807
END:VEVENT
END:VCALENDAR
