BEGIN:VCALENDAR
PRODID:Nexudus
VERSION:2.0
BEGIN:VTIMEZONE
TZID:America/Los_Angeles
X-LIC-LOCATION:America/Los_Angeles
BEGIN:STANDARD
DTSTART:20241103T020000
RRULE:FREQ=YEARLY;BYDAY=1SU;BYMONTH=11
TZNAME:PST
TZOFFSETFROM:-0700
TZOFFSETTO:-0800
END:STANDARD
BEGIN:DAYLIGHT
DTSTART:20250309T020000
RRULE:FREQ=YEARLY;BYDAY=2SU;BYMONTH=3
TZNAME:PDT
TZOFFSETFROM:-0800
TZOFFSETTO:-0700
END:DAYLIGHT
END:VTIMEZONE
BEGIN:VEVENT
DESCRIPTION:\nEvent link: https://thehivery.spaces.nexudus.com/en/events/vi
 ew/1142302170/the-hivery-san-francisco-launch-celebration\n
DTEND;TZID=America/Los_Angeles:20191103T170000
DTSTAMP:20260421T195043Z
DTSTART;TZID=America/Los_Angeles:20191103T100000
LOCATION:The Hivery San Francisco
SEQUENCE:0
SUMMARY:The Hivery San Francisco Launch Celebration
UID:f810576f-26f5-4586-8be9-e0d5f2217484
END:VEVENT
END:VCALENDAR
