BEGIN:VCALENDAR
PRODID:Nexudus
VERSION:2.0
BEGIN:VTIMEZONE
TZID:America/Los_Angeles
X-LIC-LOCATION:America/Los_Angeles
BEGIN:STANDARD
DTSTART:20241103T020000
RRULE:FREQ=YEARLY;BYDAY=1SU;BYMONTH=11
TZNAME:PST
TZOFFSETFROM:-0700
TZOFFSETTO:-0800
END:STANDARD
BEGIN:DAYLIGHT
DTSTART:20250309T020000
RRULE:FREQ=YEARLY;BYDAY=2SU;BYMONTH=3
TZNAME:PDT
TZOFFSETFROM:-0800
TZOFFSETTO:-0700
END:DAYLIGHT
END:VTIMEZONE
BEGIN:VEVENT
DESCRIPTION:\nEvent link: https://thehivery.spaces.nexudus.com/en/events/vi
 ew/1079837763/hivery-circle--life-lessons-for-today-s-leaders--how-to-crea
 te-and-lead-values-driven-organizations-with-elisa-camahort-page\n
DTEND;TZID=America/Los_Angeles:20190910T210000
DTSTAMP:20260421T212944Z
DTSTART;TZID=America/Los_Angeles:20190910T190000
LOCATION:The Hivery
SEQUENCE:0
SUMMARY:Hivery Circle: Life Lessons for Today’s Leaders: How to Create an
 d Lead Values-Driven Organizations with Elisa Camahort Page 
UID:11c0a6e7-e358-453f-8385-60ea4aac0fd0
END:VEVENT
END:VCALENDAR
