BEGIN:VCALENDAR
PRODID:Nexudus
VERSION:2.0
BEGIN:VTIMEZONE
TZID:America/Los_Angeles
X-LIC-LOCATION:America/Los_Angeles
BEGIN:STANDARD
DTSTART:20241103T020000
RRULE:FREQ=YEARLY;BYDAY=1SU;BYMONTH=11
TZNAME:PST
TZOFFSETFROM:-0700
TZOFFSETTO:-0800
END:STANDARD
BEGIN:DAYLIGHT
DTSTART:20250309T020000
RRULE:FREQ=YEARLY;BYDAY=2SU;BYMONTH=3
TZNAME:PDT
TZOFFSETFROM:-0800
TZOFFSETTO:-0700
END:DAYLIGHT
END:VTIMEZONE
BEGIN:VEVENT
DESCRIPTION:\nEvent link: https://thehivery.spaces.nexudus.com/en/events/vi
 ew/981050151/inspiration-circle--a-new-theory-of-teenagers--and-a-new-theo
 ry-of-you---seven-transformational-strategies-to-empower-you-and-your-teen
 -with-christa-santangelo--phd\n
DTEND;TZID=America/Los_Angeles:20190530T134500
DTSTAMP:20260422T024359Z
DTSTART;TZID=America/Los_Angeles:20190530T123000
LOCATION:The Hivery
SEQUENCE:0
SUMMARY:Inspiration Circle: A New Theory of Teenagers (and a New Theory of 
 You!) Seven Transformational Strategies to Empower You and Your Teen with 
 Christa Santangelo\, PhD  
UID:6ac2d74d-a1f9-4c42-b89b-ce0431d5542e
END:VEVENT
END:VCALENDAR
