BEGIN:VCALENDAR
PRODID:Nexudus
VERSION:2.0
BEGIN:VTIMEZONE
TZID:America/Los_Angeles
X-LIC-LOCATION:America/Los_Angeles
BEGIN:STANDARD
DTSTART:20241103T020000
RRULE:FREQ=YEARLY;BYDAY=1SU;BYMONTH=11
TZNAME:PST
TZOFFSETFROM:-0700
TZOFFSETTO:-0800
END:STANDARD
BEGIN:DAYLIGHT
DTSTART:20250309T020000
RRULE:FREQ=YEARLY;BYDAY=2SU;BYMONTH=3
TZNAME:PDT
TZOFFSETFROM:-0800
TZOFFSETTO:-0700
END:DAYLIGHT
END:VTIMEZONE
BEGIN:VEVENT
DESCRIPTION:\nEvent link: https://thehivery.spaces.nexudus.com/en/events/vi
 ew/930234307/creating-your-pitch-deck-101-with-kindred-creative-group\n
DTEND;TZID=America/Los_Angeles:20190404T144500
DTSTAMP:20260422T040419Z
DTSTART;TZID=America/Los_Angeles:20190404T123000
LOCATION:The Hivery
SEQUENCE:0
SUMMARY:Creating Your Pitch Deck 101 with Kindred Creative Group 
UID:7f724af2-9da0-4786-930f-aa8a1e5676bf
END:VEVENT
END:VCALENDAR
